BEGIN:VCALENDAR
VERSION:2.0
PRODID:-//Sabre//Sabre VObject 4.5.8//EN
CALSCALE:GREGORIAN
NAME:Bistum Augsburg
X-WR-CALNAME:Bistum Augsburg
BEGIN:VEVENT
UID:sabre-vobject-b68c8561-5142-4583-9481-1a44d5dc5865
DTSTAMP:20260420T091220Z
SUMMARY:Rosenkranz
DESCRIPTION:https://ebershausen.bistum-augsburg-portal.de/rosenkranz_id1736
 469
DTSTART;TZID=Europe/Berlin:20260421T183000
DURATION:PT30M
LOCATION:St. Martin
END:VEVENT
BEGIN:VEVENT
UID:sabre-vobject-9e241af1-8ee0-4cd5-a4c7-e007bd8e8eed
DTSTAMP:20260420T091221Z
SUMMARY:Heilige Messe
DESCRIPTION:https://ebershausen.bistum-augsburg-portal.de/heilige-messe_id1
 736470
DTSTART;TZID=Europe/Berlin:20260421T190000
DURATION:PT30M
LOCATION:St. Martin
END:VEVENT
BEGIN:VEVENT
UID:sabre-vobject-d0322112-bb04-4b56-8da0-3b87a3616587
DTSTAMP:20260420T091221Z
SUMMARY:Rosenkranz
DESCRIPTION:https://ebershausen.bistum-augsburg-portal.de/rosenkranz_id1736
 387
DTSTART;TZID=Europe/Berlin:20260424T190000
DURATION:PT30M
LOCATION:St. Ulrich und Vitus
END:VEVENT
BEGIN:VEVENT
UID:sabre-vobject-f6ab9886-053d-4900-b271-a12748b6ddfc
DTSTAMP:20260420T091221Z
SUMMARY:Feier der Erstkommunion - Festgottesdienst
DESCRIPTION:https://ebershausen.bistum-augsburg-portal.de/feier-der-erstkom
 munion-festgottesdienst_id1736471
DTSTART;TZID=Europe/Berlin:20260425T101500
DURATION:PT30M
LOCATION:St. Martin
END:VEVENT
BEGIN:VEVENT
UID:sabre-vobject-13340c9d-9f7c-4f77-a408-83e4ce3ad062
DTSTAMP:20260420T091221Z
SUMMARY:Rosenkranz
DESCRIPTION:https://ebershausen.bistum-augsburg-portal.de/rosenkranz_id1736
 365
DTSTART;TZID=Europe/Berlin:20260426T081500
DURATION:PT30M
LOCATION:St. Martin
END:VEVENT
BEGIN:VEVENT
UID:sabre-vobject-4c5d9b7b-33b7-41db-836d-07f3ebb4446e
DTSTAMP:20260420T091221Z
SUMMARY:Heilige Messe
DESCRIPTION:https://ebershausen.bistum-augsburg-portal.de/heilige-messe_id1
 736385
DTSTART;TZID=Europe/Berlin:20260426T084500
DURATION:PT30M
LOCATION:St. Martin
END:VEVENT
BEGIN:VEVENT
UID:sabre-vobject-f951118d-3642-40d0-8d6d-1bf1d48dc5a1
DTSTAMP:20260420T091221Z
SUMMARY:Heilige Messe
DESCRIPTION:https://ebershausen.bistum-augsburg-portal.de/heilige-messe_id1
 736388
DTSTART;TZID=Europe/Berlin:20260428T190000
DURATION:PT30M
LOCATION:St. Ulrich und Vitus
END:VEVENT
BEGIN:VEVENT
UID:sabre-vobject-a1204dea-0fe3-4f27-b6c1-be904347177d
DTSTAMP:20260420T091221Z
SUMMARY:Rosenkranz
DESCRIPTION:https://ebershausen.bistum-augsburg-portal.de/rosenkranz_id1736
 390
DTSTART;TZID=Europe/Berlin:20260501T190000
DURATION:PT30M
LOCATION:St. Ulrich und Vitus
END:VEVENT
BEGIN:VEVENT
UID:sabre-vobject-d26ed5c5-5ce4-4743-b76e-fb7b2ca2cdb2
DTSTAMP:20260420T091221Z
SUMMARY:Feierliche Maiandacht
DESCRIPTION:https://ebershausen.bistum-augsburg-portal.de/feierliche-maiand
 acht_id1736386
DTSTART;TZID=Europe/Berlin:20260501T191500
DURATION:PT30M
LOCATION:St. Martin
END:VEVENT
END:VCALENDAR
